Workbook

Sheet 推薦情報
T1: （様式２）
K2: 記入日： | L2: 令和 | P2: 年 | R2: 月 | T2: 日
A3: パラスポーツ指導員資格取得認定校 優秀学生推薦情報一覧
A5: ◆推薦される学生の情報
B6: 賞状に記載する内容ですので、漢字等正確に記入してください。
B7: 法人名
B8: 学校名
B9: 学部・学科名
B10: （ふりがな） | N10: 推薦学生の所持資格
B11: 学生の氏名
B12: 表記について
B13: 漢字が特殊な場合などがありましたら、こちらにご記入ください。
A15: ◆事務担当者情報
B16: 担当者名
B17: メールアドレス
B18: 電話番号
A20: ◆賞状送付関係情報
B21: 送付先住所 | C21: 〒
B23: 学校名
B24: 受取部署
B25: 受取者氏名
B26: 電話番号
B27: 認定校区分 | I27: 学校が所在する 都道府県
A29: ◆その他
B30: 卒業式 | C30: 令和9年 | H30: 月 | L30: 日
B31: 賞状受取希望日 | C31: 令和9年 | H31: 月 | L31: 日
C32: ※2月25日頃に一斉発送を予定しておりますため、受取希望日に必ずお届けできるものではございません。 参考としてご記入をお願いいたします。
B33: 確認事項 | E33: 推薦する学生は、卒業年次の学生である。
E34: 推薦する学生は、日本パラスポーツ協会の指導員資格保有者および申請者（含予定）である。
E35: 日本パラスポーツ協会のＨＰに掲載する「受賞者一覧」に受賞学生の氏名を掲載することに同意する。 ※同意しない場合は学校名、学部・学科名のみ掲載します。
B36: 通信欄
A39: 〇
A40: ×

Sheet 見本
T1: （様式２）
K2: 記入日： | L2: 令和 | P2: 年 | R2: 月 | T2: 日
A3: パラスポーツ指導員資格取得認定校 優秀学生推薦情報一覧
A5: ◆推薦される学生の情報
B6: 賞状に記載する内容ですので、漢字等正確に記入してください。
B7: 法人名 | C7: 学校法人○○会
B8: 学校名 | C8: 日本パラ大学
B9: 学部・学科名 | C9: スポーツ推進学部 地域スポーツ学科
B10: （ふりがな） | C10: きょうかい たろう | N10: 推薦学生の所持資格
B11: 学生の氏名 | C11: 協会 太郎 | N11: 初級パラスポーツ指導員
B12: 表記について | C12: 特にありません
B13: 漢字が特殊な場合などがありましたら、こちらにご記入ください。
A15: ◆事務担当者情報
B16: 担当者名 | C16: 事務 花子
B17: メールアドレス | C17: ninteiko@parasports.or.jp
B18: 電話番号 | C18: 03-5695-5420
A20: ◆賞状送付関係情報
B21: 送付先住所 | C21: 〒 | D21: 103-0014
C22: 東京都中央区日本橋蛎殻町２－１３－６
B23: 学校名 | C23: 学校法人○○会 日本パラ大学
B24: 受取部署 | C24: 教務課
B25: 受取者氏名 | C25: 事務 花子
B26: 電話番号 | C26: 03-5695-5420
B27: 認定校区分 | C27: 初級認定校 | I27: 学校が所在する 都道府県 | N27: 東京都
A29: ◆その他
B30: 卒業式 | C30: 令和9年 | F30: 3 | H30: 月 | J30: 10 | L30: 日
B31: 賞状受取希望日 | C31: 令和9年 | F31: 3 | H31: 月 | J31: 8 | L31: 日
C32: ※2月25日頃に一斉発送を予定しておりますため、受取希望日に必ずお届けできるものではございません。 参考としてご記入をお願いいたします。
B33: 確認事項 | C33: 〇 | E33: 推薦する学生は、卒業年次の学生である
C34: 〇 | E34: 推薦する学生は、日本パラスポーツ協会の指導員資格申請者（含予定）である
C35: ○ | E35: 日本パラスポーツ協会のＨＰに掲載する「受賞者一覧」に受賞学生の氏名を掲載することに同意する。 ※同意しない場合は学校名、学部・学科名のみ掲載します。
B36: 通信欄
A39: 〇
A40: ×

Sheet ※削除禁止
C2: 学生の情報 | J2: 事務担当者の情報 | M2: 賞状送付関連 | U2: 確認事項 | AB2: その他
C3: 法人名 | D3: 学校名 | E3: 学部・学科名 | F3: 氏名（ふりがな） | G3: 氏名（漢字） | H3: 所持資格 | I3: 表記などについて | J3: 担当者名 | K3: メールアドレス | L3: 電話番号 | M3: 〒 | N3: 住所 | O3: 学校名 | P3: 受取部署 | Q3: 受取者氏名 | R3: 電話番号 | S3: 認定校区分 | T3: 都道府県 | U3: 卒業式 （月） | V3: 卒業式 （日） | W3: 受取 （月） | X3: 受取 （日） | Y3: 卒業 年度 | Z3: 資格 申請 | AA3: HP 掲載 | AB3: 通信欄
C4: =推薦情報!C7 -> 0 | D4: =推薦情報!C8 -> 0 | E4: =推薦情報!C9 -> 0 | F4: =推薦情報!C10 -> 0 | G4: =推薦情報!C11 -> 0 | H4: =推薦情報!N11 -> 0 | I4: =推薦情報!C12 -> 0 | J4: =推薦情報!C16 -> 0 | K4: =推薦情報!C17 -> 0 | L4: =推薦情報!C18 -> 0 | M4: =推薦情報!D21 -> 0 | N4: =推薦情報!C22 -> 0 | O4: =推薦情報!C23 -> 0 | P4: =推薦情報!C24 -> 0 | Q4: =推薦情報!C25 -> 0 | R4: =推薦情報!C26 -> 0 | S4: =推薦情報!C27 -> 0 | T4: =推薦情報!N27 -> 0 | U4: =推薦情報!F30 -> 0 | V4: =推薦情報!J30 -> 0 | W4: =推薦情報!F31 -> 0 | X4: =推薦情報!J31 -> 0 | Y4: =推薦情報!C33 -> 0 | Z4: =推薦情報!C34 -> 0 | AA4: =推薦情報!C35 -> 0 | AB4: =推薦情報!C36 -> 0
